Workbook

Sheet 報告
A1: PERSONAL FINANCIAL MANAGEMENT
A2: Year | B2: 2024 | C2: 2024 | D2: 2024 | E2: 2024 | F2: 2024 | G2: 2024 | H2: 2024 | I2: 2024 | J2: 2024 | K2: 2024 | L2: 2024 | M2: 2024
A3: Month | B3: January | C3: February | D3: March | E3: April | F3: May | G3: June | H3: July | I3: August | J3: September | K3: October | L3: November | M3: December | N3: Total
B4: HK$ | C4: HK$ | D4: HK$ | E4: HK$ | F4: HK$ | G4: HK$ | H4: HK$ | I4: HK$ | J4: HK$ | K4: HK$ | L4: HK$ | M4: HK$ | N4: HK$
A6: Income | B6: =B27 -> 88000 | C6: =C27 -> 300 | D6: =D27 -> 0 | E6: =E27 -> 0 | F6: =F27 -> 0 | G6: =G27 -> 0 | H6: =H27 -> 0 | I6: =I27 -> 0 | ... M6: =M27 -> 0 | N6: =SUM(B6:M6) -> 88300
A8: Expense：
A9: Basic | B9: =B36 -> -26578 | C9: =C36 -> -12 | D9: =D36 -> 0 | E9: =E36 -> 0 | F9: =F36 -> 0 | G9: =G36 -> 0 | H9: =H36 -> 0 | I9: =I36 -> 0 | ... M9: =M36 -> 0 | N9: =SUM(B9:M9) -> -26590
A10: Sustain | B10: =B44 -> -5100 | C10: =C44 -> 0 | D10: =D44 -> 0 | E10: =E44 -> 0 | F10: =F44 -> 0 | G10: =G44 -> 0 | H10: =H44 -> 0 | I10: =I44 -> 0 | ... M10: =M44 -> 0 | N10: =SUM(B10:M10) -> -5100
A11: Luxury | B11: =B53 -> 0 | C11: =C53 -> 0 | D11: =D53 -> 0 | E11: =E53 -> 0 | F11: =F53 -> 0 | G11: =G53 -> 0 | H11: =H53 -> 0 | I11: =I53 -> 0 | ... M11: =M53 -> 0 | N11: =SUM(B11:M11) -> 0
A12: Love | B12: =B59 -> -10000 | C12: =C59 -> 0 | D12: =D59 -> 0 | E12: =E59 -> 0 | F12: =F59 -> 0 | G12: =G59 -> 0 | H12: =H59 -> 0 | I12: =I59 -> 0 | ... M12: =M59 -> 0 | N12: =SUM(B12:M12) -> -10000
A13: Financial and Taxation | B13: =B64 -> 0 | C13: =C64 -> 0 | D13: =D64 -> 0 | E13: =E64 -> 0 | F13: =F64 -> 0 | G13: =G64 -> 0 | H13: =H64 -> 0 | I13: =I64 -> 0 | ... M13: =M64 -> 0 | N13: =SUM(B13:M13) -> 0
A14: Durable Items | B14: =B72 -> 0 | C14: =C72 -> 0 | D14: =D72 -> 0 | E14: =E72 -> 0 | F14: =F72 -> 0 | G14: =G72 -> 0 | H14: =H72 -> 0 | I14: =I72 -> 0 | ... M14: =M72 -> 0 | N14: =SUM(B14:M14) -> 0
A16: Total： | B16: =SUM(B6:B15) -> 46322 | C16: =SUM(C6:C15) -> 288 | D16: =SUM(D6:D15) -> 0 | E16: =SUM(E6:E15) -> 0 | F16: =SUM(F6:F15) -> 0 | G16: =SUM(G6:G15) -> 0 | H16: =SUM(H6:H15) -> 0 | I16: =SUM(I6:I15) -> 0 | ... N16: =SUM(N6:N15) -> 46610
A18: Details:
A19: Income
A20: Income - Salary | B20: =SUMIFS(輸入!$G$2:$G$99804,輸入!$D$2:$D$99804,報告!$A20,輸入!$B$2:$B$99804,報告!B$3,輸入!$A$2:$A$99804,報告!B$2) -> 75000 | C20: =SUMIFS(輸入!$G$2:$G$99804,輸入!$D$2:$D$99804,報告!$A20,輸入!$B$2:$B$99804,報告!C$3,輸入!$A$2:$A$99804,報告!C$2) -> 0 | D20: =SUMIFS(輸入!$G$2:$G$99804,輸入!$D$2:$D$99804,報告!$A20,輸入!$B$2:$B$99804,報告!D$3,輸入!$A$2:$A$99804,報告!D$2) -> 0 | E20: =SUMIFS(輸入!$G$2:$G$99804,輸入!$D$2:$D$99804,報告!$A20,輸入!$B$2:$B$99804,報告!E$3,輸入!$A$2:$A$99804,報告!E$2) -> 0 | F20: =SUMIFS(輸入!$G$2:$G$99804,輸入!$D$2:$D$99804,報告!$A20,輸入!$B$2:$B$99804,報告!F$3,輸入!$A$2:$A$99804,報告!F$2) -> 0 | G20: =SUMIFS(輸入!$G$2:$G$99804,輸入!$D$2:$D$99804,報告!$A20,輸入!$B$2:$B$99804,報告!G$3,輸入!$A$2:$A$99804,報告!G$2) -> 0 | H20: =SUMIFS(輸入!$G$2:$G$99804,輸入!$D$2:$D$99804,報告!$A20,輸入!$B$2:$B$99804,報告!H$3,輸入!$A$2:$A$99804,報告!H$2) -> 0 | I20: =SUMIFS(輸入!$G$2:$G$99804,輸入!$D$2:$D$99804,報告!$A20,輸入!$B$2:$B$99804,報告!I$3,輸入!$A$2:$A$99804,報告!I$2) -> 0 | ... M20: =SUMIFS(輸入!$G$2:$G$99804,輸入!$D$2:$D$99804,報告!$A20,輸入!$B$2:$B$99804,報告!M$3,輸入!$A$2:$A$99804,報告!M$2) -> 0 | N20: =SUM(B20:M20) -> 75000
A21: Income - Dividend | B21: =SUMIFS(輸入!$G$2:$G$99804,輸入!$D$2:$D$99804,報告!$A21,輸入!$B$2:$B$99804,報告!B$3,輸入!$A$2:$A$99804,報告!B$2) -> 0 | C21: =SUMIFS(輸入!$G$2:$G$99804,輸入!$D$2:$D$99804,報告!$A21,輸入!$B$2:$B$99804,報告!C$3,輸入!$A$2:$A$99804,報告!C$2) -> 0 | D21: =SUMIFS(輸入!$G$2:$G$99804,輸入!$D$2:$D$99804,報告!$A21,輸入!$B$2:$B$99804,報告!D$3,輸入!$A$2:$A$99804,報告!D$2) -> 0 | E21: =SUMIFS(輸入!$G$2:$G$99804,輸入!$D$2:$D$99804,報告!$A21,輸入!$B$2:$B$99804,報告!E$3,輸入!$A$2:$A$99804,報告!E$2) -> 0 | F21: =SUMIFS(輸入!$G$2:$G$99804,輸入!$D$2:$D$99804,報告!$A21,輸入!$B$2:$B$99804,報告!F$3,輸入!$A$2:$A$99804,報告!F$2) -> 0 | G21: =SUMIFS(輸入!$G$2:$G$99804,輸入!$D$2:$D$99804,報告!$A21,輸入!$B$2:$B$99804,報告!G$3,輸入!$A$2:$A$99804,報告!G$2) -> 0 | H21: =SUMIFS(輸入!$G$2:$G$99804,輸入!$D$2:$D$99804,報告!$A21,輸入!$B$2:$B$99804,報告!H$3,輸入!$A$2:$A$99804,報告!H$2) -> 0 | I21: =SUMIFS(輸入!$G$2:$G$99804,輸入!$D$2:$D$99804,報告!$A21,輸入!$B$2:$B$99804,報告!I$3,輸入!$A$2:$A$99804,報告!I$2) -> 0 | ... M21: =SUMIFS(輸入!$G$2:$G$99804,輸入!$D$2:$D$99804,報告!$A21,輸入!$B$2:$B$99804,報告!M$3,輸入!$A$2:$A$99804,報告!M$2) -> 0 | N21: =SUM(B21:M21) -> 0
A22: Income - Disposal Gain | B22: =SUMIFS(輸入!$G$2:$G$99804,輸入!$D$2:$D$99804,報告!$A22,輸入!$B$2:$B$99804,報告!B$3,輸入!$A$2:$A$99804,報告!B$2) -> 0 | C22: =SUMIFS(輸入!$G$2:$G$99804,輸入!$D$2:$D$99804,報告!$A22,輸入!$B$2:$B$99804,報告!C$3,輸入!$A$2:$A$99804,報告!C$2) -> 0 | D22: =SUMIFS(輸入!$G$2:$G$99804,輸入!$D$2:$D$99804,報告!$A22,輸入!$B$2:$B$99804,報告!D$3,輸入!$A$2:$A$99804,報告!D$2) -> 0 | E22: =SUMIFS(輸入!$G$2:$G$99804,輸入!$D$2:$D$99804,報告!$A22,輸入!$B$2:$B$99804,報告!E$3,輸入!$A$2:$A$99804,報告!E$2) -> 0 | F22: =SUMIFS(輸入!$G$2:$G$99804,輸入!$D$2:$D$99804,報告!$A22,輸入!$B$2:$B$99804,報告!F$3,輸入!$A$2:$A$99804,報告!F$2) -> 0 | G22: =SUMIFS(輸入!$G$2:$G$99804,輸入!$D$2:$D$99804,報告!$A22,輸入!$B$2:$B$99804,報告!G$3,輸入!$A$2:$A$99804,報告!G$2) -> 0 | H22: =SUMIFS(輸入!$G$2:$G$99804,輸入!$D$2:$D$99804,報告!$A22,輸入!$B$2:$B$99804,報告!H$3,輸入!$A$2:$A$99804,報告!H$2) -> 0 | I22: =SUMIFS(輸入!$G$2:$G$99804,輸入!$D$2:$D$99804,報告!$A22,輸入!$B$2:$B$99804,報告!I$3,輸入!$A$2:$A$99804,報告!I$2) -> 0 | ... M22: =SUMIFS(輸入!$G$2:$G$99804,輸入!$D$2:$D$99804,報告!$A22,輸入!$B$2:$B$99804,報告!M$3,輸入!$A$2:$A$99804,報告!M$2) -> 0 | N22: =SUM(B22:M22) -> 0
A23: Income - Interest Income | B23: =SUMIFS(輸入!$G$2:$G$99804,輸入!$D$2:$D$99804,報告!$A23,輸入!$B$2:$B$99804,報告!B$3,輸入!$A$2:$A$99804,報告!B$2) -> 13000 | C23: =SUMIFS(輸入!$G$2:$G$99804,輸入!$D$2:$D$99804,報告!$A23,輸入!$B$2:$B$99804,報告!C$3,輸入!$A$2:$A$99804,報告!C$2) -> 300 | D23: =SUMIFS(輸入!$G$2:$G$99804,輸入!$D$2:$D$99804,報告!$A23,輸入!$B$2:$B$99804,報告!D$3,輸入!$A$2:$A$99804,報告!D$2) -> 0 | E23: =SUMIFS(輸入!$G$2:$G$99804,輸入!$D$2:$D$99804,報告!$A23,輸入!$B$2:$B$99804,報告!E$3,輸入!$A$2:$A$99804,報告!E$2) -> 0 | F23: =SUMIFS(輸入!$G$2:$G$99804,輸入!$D$2:$D$99804,報告!$A23,輸入!$B$2:$B$99804,報告!F$3,輸入!$A$2:$A$99804,報告!F$2) -> 0 | G23: =SUMIFS(輸入!$G$2:$G$99804,輸入!$D$2:$D$99804,報告!$A23,輸入!$B$2:$B$99804,報告!G$3,輸入!$A$2:$A$99804,報告!G$2) -> 0 | H23: =SUMIFS(輸入!$G$2:$G$99804,輸入!$D$2:$D$99804,報告!$A23,輸入!$B$2:$B$99804,報告!H$3,輸入!$A$2:$A$99804,報告!H$2) -> 0 | I23: =SUMIFS(輸入!$G$2:$G$99804,輸入!$D$2:$D$99804,報告!$A23,輸入!$B$2:$B$99804,報告!I$3,輸入!$A$2:$A$99804,報告!I$2) -> 0 | ... M23: =SUMIFS(輸入!$G$2:$G$99804,輸入!$D$2:$D$99804,報告!$A23,輸入!$B$2:$B$99804,報告!M$3,輸入!$A$2:$A$99804,報告!M$2) -> 0 | N23: =SUM(B23:M23) -> 13300
A24: Income - Insurance Claim | B24: =SUMIFS(輸入!$G$2:$G$99804,輸入!$D$2:$D$99804,報告!$A24,輸入!$B$2:$B$99804,報告!B$3,輸入!$A$2:$A$99804,報告!B$2) -> 0 | C24: =SUMIFS(輸入!$G$2:$G$99804,輸入!$D$2:$D$99804,報告!$A24,輸入!$B$2:$B$99804,報告!C$3,輸入!$A$2:$A$99804,報告!C$2) -> 0 | D24: =SUMIFS(輸入!$G$2:$G$99804,輸入!$D$2:$D$99804,報告!$A24,輸入!$B$2:$B$99804,報告!D$3,輸入!$A$2:$A$99804,報告!D$2) -> 0 | E24: =SUMIFS(輸入!$G$2:$G$99804,輸入!$D$2:$D$99804,報告!$A24,輸入!$B$2:$B$99804,報告!E$3,輸入!$A$2:$A$99804,報告!E$2) -> 0 | F24: =SUMIFS(輸入!$G$2:$G$99804,輸入!$D$2:$D$99804,報告!$A24,輸入!$B$2:$B$99804,報告!F$3,輸入!$A$2:$A$99804,報告!F$2) -> 0 | G24: =SUMIFS(輸入!$G$2:$G$99804,輸入!$D$2:$D$99804,報告!$A24,輸入!$B$2:$B$99804,報告!G$3,輸入!$A$2:$A$99804,報告!G$2) -> 0 | H24: =SUMIFS(輸入!$G$2:$G$99804,輸入!$D$2:$D$99804,報告!$A24,輸入!$B$2:$B$99804,報告!H$3,輸入!$A$2:$A$99804,報告!H$2) -> 0 | I24: =SUMIFS(輸入!$G$2:$G$99804,輸入!$D$2:$D$99804,報告!$A24,輸入!$B$2:$B$99804,報告!I$3,輸入!$A$2:$A$99804,報告!I$2) -> 0 | ... M24: =SUMIFS(輸入!$G$2:$G$99804,輸入!$D$2:$D$99804,報告!$A24,輸入!$B$2:$B$99804,報告!M$3,輸入!$A$2:$A$99804,報告!M$2) -> 0 | N24: =SUM(B24:M24) -> 0
A25: Income - Government Grant and Subsidy | B25: =SUMIFS(輸入!$G$2:$G$99804,輸入!$D$2:$D$99804,報告!$A25,輸入!$B$2:$B$99804,報告!B$3,輸入!$A$2:$A$99804,報告!B$2) -> 0 | C25: =SUMIFS(輸入!$G$2:$G$99804,輸入!$D$2:$D$99804,報告!$A25,輸入!$B$2:$B$99804,報告!C$3,輸入!$A$2:$A$99804,報告!C$2) -> 0 | D25: =SUMIFS(輸入!$G$2:$G$99804,輸入!$D$2:$D$99804,報告!$A25,輸入!$B$2:$B$99804,報告!D$3,輸入!$A$2:$A$99804,報告!D$2) -> 0 | E25: =SUMIFS(輸入!$G$2:$G$99804,輸入!$D$2:$D$99804,報告!$A25,輸入!$B$2:$B$99804,報告!E$3,輸入!$A$2:$A$99804,報告!E$2) -> 0 | F25: =SUMIFS(輸入!$G$2:$G$99804,輸入!$D$2:$D$99804,報告!$A25,輸入!$B$2:$B$99804,報告!F$3,輸入!$A$2:$A$99804,報告!F$2) -> 0 | G25: =SUMIFS(輸入!$G$2:$G$99804,輸入!$D$2:$D$99804,報告!$A25,輸入!$B$2:$B$99804,報告!G$3,輸入!$A$2:$A$99804,報告!G$2) -> 0 | H25: =SUMIFS(輸入!$G$2:$G$99804,輸入!$D$2:$D$99804,報告!$A25,輸入!$B$2:$B$99804,報告!H$3,輸入!$A$2:$A$99804,報告!H$2) -> 0 | I25: =SUMIFS(輸入!$G$2:$G$99804,輸入!$D$2:$D$99804,報告!$A25,輸入!$B$2:$B$99804,報告!I$3,輸入!$A$2:$A$99804,報告!I$2) -> 0 | ... M25: =SUMIFS(輸入!$G$2:$G$99804,輸入!$D$2:$D$99804,報告!$A25,輸入!$B$2:$B$99804,報告!M$3,輸入!$A$2:$A$99804,報告!M$2) -> 0 | N25: =SUM(B25:M25) -> 0
A26: Income - Professional Service | B26: =SUMIFS(輸入!$G$2:$G$99804,輸入!$D$2:$D$99804,報告!$A26,輸入!$B$2:$B$99804,報告!B$3,輸入!$A$2:$A$99804,報告!B$2) -> 0 | C26: =SUMIFS(輸入!$G$2:$G$99804,輸入!$D$2:$D$99804,報告!$A26,輸入!$B$2:$B$99804,報告!C$3,輸入!$A$2:$A$99804,報告!C$2) -> 0 | D26: =SUMIFS(輸入!$G$2:$G$99804,輸入!$D$2:$D$99804,報告!$A26,輸入!$B$2:$B$99804,報告!D$3,輸入!$A$2:$A$99804,報告!D$2) -> 0 | E26: =SUMIFS(輸入!$G$2:$G$99804,輸入!$D$2:$D$99804,報告!$A26,輸入!$B$2:$B$99804,報告!E$3,輸入!$A$2:$A$99804,報告!E$2) -> 0 | F26: =SUMIFS(輸入!$G$2:$G$99804,輸入!$D$2:$D$99804,報告!$A26,輸入!$B$2:$B$99804,報告!F$3,輸入!$A$2:$A$99804,報告!F$2) -> 0 | G26: =SUMIFS(輸入!$G$2:$G$99804,輸入!$D$2:$D$99804,報告!$A26,輸入!$B$2:$B$99804,報告!G$3,輸入!$A$2:$A$99804,報告!G$2) -> 0 | H26: =SUMIFS(輸入!$G$2:$G$99804,輸入!$D$2:$D$99804,報告!$A26,輸入!$B$2:$B$99804,報告!H$3,輸入!$A$2:$A$99804,報告!H$2) -> 0 | I26: =SUMIFS(輸入!$G$2:$G$99804,輸入!$D$2:$D$99804,報告!$A26,輸入!$B$2:$B$99804,報告!I$3,輸入!$A$2:$A$99804,報告!I$2) -> 0 | ... M26: =SUMIFS(輸入!$G$2:$G$99804,輸入!$D$2:$D$99804,報告!$A26,輸入!$B$2:$B$99804,報告!M$3,輸入!$A$2:$A$99804,報告!M$2) -> 0 | N26: =SUM(B26:M26) -> 0
B27: =SUM(B20:B26) -> 88000 | C27: =SUM(C20:C26) -> 300 | D27: =SUM(D20:D26) -> 0 | E27: =SUM(E20:E26) -> 0 | F27: =SUM(F20:F26) -> 0 | G27: =SUM(G20:G26) -> 0 | H27: =SUM(H20:H26) -> 0 | I27: =SUM(I20:I26) -> 0 | ... N27: =SUM(N20:N26) -> 88300
A29: Expense：
A30: Basic
A31: Expense - Cloth | B31: =SUMIFS(輸入!$G$2:$G$99804,輸入!$D$2:$D$99804,報告!$A31,輸入!$B$2:$B$99804,報告!B$3,輸入!$A$2:$A$99804,報告!B$2) -> -1500 | C31: =SUMIFS(輸入!$G$2:$G$99804,輸入!$D$2:$D$99804,報告!$A31,輸入!$B$2:$B$99804,報告!C$3,輸入!$A$2:$A$99804,報告!C$2) -> 0 | D31: =SUMIFS(輸入!$G$2:$G$99804,輸入!$D$2:$D$99804,報告!$A31,輸入!$B$2:$B$99804,報告!D$3,輸入!$A$2:$A$99804,報告!D$2) -> 0 | E31: =SUMIFS(輸入!$G$2:$G$99804,輸入!$D$2:$D$99804,報告!$A31,輸入!$B$2:$B$99804,報告!E$3,輸入!$A$2:$A$99804,報告!E$2) -> 0 | F31: =SUMIFS(輸入!$G$2:$G$99804,輸入!$D$2:$D$99804,報告!$A31,輸入!$B$2:$B$99804,報告!F$3,輸入!$A$2:$A$99804,報告!F$2) -> 0 | G31: =SUMIFS(輸入!$G$2:$G$99804,輸入!$D$2:$D$99804,報告!$A31,輸入!$B$2:$B$99804,報告!G$3,輸入!$A$2:$A$99804,報告!G$2) -> 0 | H31: =SUMIFS(輸入!$G$2:$G$99804,輸入!$D$2:$D$99804,報告!$A31,輸入!$B$2:$B$99804,報告!H$3,輸入!$A$2:$A$99804,報告!H$2) -> 0 | I31: =SUMIFS(輸入!$G$2:$G$99804,輸入!$D$2:$D$99804,報告!$A31,輸入!$B$2:$B$99804,報告!I$3,輸入!$A$2:$A$99804,報告!I$2) -> 0 | ... M31: =SUMIFS(輸入!$G$2:$G$99804,輸入!$D$2:$D$99804,報告!$A31,輸入!$B$2:$B$99804,報告!M$3,輸入!$A$2:$A$99804,報告!M$2) -> 0 | N31: =SUM(B31:M31) -> -1500
A32: Expense - Food | B32: =SUMIFS(輸入!$G$2:$G$99804,輸入!$D$2:$D$99804,報告!$A32,輸入!$B$2:$B$99804,報告!B$3,輸入!$A$2:$A$99804,報告!B$2) -> -821 | C32: =SUMIFS(輸入!$G$2:$G$99804,輸入!$D$2:$D$99804,報告!$A32,輸入!$B$2:$B$99804,報告!C$3,輸入!$A$2:$A$99804,報告!C$2) -> 0 | D32: =SUMIFS(輸入!$G$2:$G$99804,輸入!$D$2:$D$99804,報告!$A32,輸入!$B$2:$B$99804,報告!D$3,輸入!$A$2:$A$99804,報告!D$2) -> 0 | E32: =SUMIFS(輸入!$G$2:$G$99804,輸入!$D$2:$D$99804,報告!$A32,輸入!$B$2:$B$99804,報告!E$3,輸入!$A$2:$A$99804,報告!E$2) -> 0 | F32: =SUMIFS(輸入!$G$2:$G$99804,輸入!$D$2:$D$99804,報告!$A32,輸入!$B$2:$B$99804,報告!F$3,輸入!$A$2:$A$99804,報告!F$2) -> 0 | G32: =SUMIFS(輸入!$G$2:$G$99804,輸入!$D$2:$D$99804,報告!$A32,輸入!$B$2:$B$99804,報告!G$3,輸入!$A$2:$A$99804,報告!G$2) -> 0 | H32: =SUMIFS(輸入!$G$2:$G$99804,輸入!$D$2:$D$99804,報告!$A32,輸入!$B$2:$B$99804,報告!H$3,輸入!$A$2:$A$99804,報告!H$2) -> 0 | I32: =SUMIFS(輸入!$G$2:$G$99804,輸入!$D$2:$D$99804,報告!$A32,輸入!$B$2:$B$99804,報告!I$3,輸入!$A$2:$A$99804,報告!I$2) -> 0 | ... M32: =SUMIFS(輸入!$G$2:$G$99804,輸入!$D$2:$D$99804,報告!$A32,輸入!$B$2:$B$99804,報告!M$3,輸入!$A$2:$A$99804,報告!M$2) -> 0 | N32: =SUM(B32:M32) -> -821
A33: Expense - Housing | B33: =SUMIFS(輸入!$G$2:$G$99804,輸入!$D$2:$D$99804,報告!$A33,輸入!$B$2:$B$99804,報告!B$3,輸入!$A$2:$A$99804,報告!B$2) -> -24000 | C33: =SUMIFS(輸入!$G$2:$G$99804,輸入!$D$2:$D$99804,報告!$A33,輸入!$B$2:$B$99804,報告!C$3,輸入!$A$2:$A$99804,報告!C$2) -> 0 | D33: =SUMIFS(輸入!$G$2:$G$99804,輸入!$D$2:$D$99804,報告!$A33,輸入!$B$2:$B$99804,報告!D$3,輸入!$A$2:$A$99804,報告!D$2) -> 0 | E33: =SUMIFS(輸入!$G$2:$G$99804,輸入!$D$2:$D$99804,報告!$A33,輸入!$B$2:$B$99804,報告!E$3,輸入!$A$2:$A$99804,報告!E$2) -> 0 | F33: =SUMIFS(輸入!$G$2:$G$99804,輸入!$D$2:$D$99804,報告!$A33,輸入!$B$2:$B$99804,報告!F$3,輸入!$A$2:$A$99804,報告!F$2) -> 0 | G33: =SUMIFS(輸入!$G$2:$G$99804,輸入!$D$2:$D$99804,報告!$A33,輸入!$B$2:$B$99804,報告!G$3,輸入!$A$2:$A$99804,報告!G$2) -> 0 | H33: =SUMIFS(輸入!$G$2:$G$99804,輸入!$D$2:$D$99804,報告!$A33,輸入!$B$2:$B$99804,報告!H$3,輸入!$A$2:$A$99804,報告!H$2) -> 0 | I33: =SUMIFS(輸入!$G$2:$G$99804,輸入!$D$2:$D$99804,報告!$A33,輸入!$B$2:$B$99804,報告!I$3,輸入!$A$2:$A$99804,報告!I$2) -> 0 | ... M33: =SUMIFS(輸入!$G$2:$G$99804,輸入!$D$2:$D$99804,報告!$A33,輸入!$B$2:$B$99804,報告!M$3,輸入!$A$2:$A$99804,報告!M$2) -> 0 | N33: =SUM(B33:M33) -> -24000
A34: Expense - Transportation | B34: =SUMIFS(輸入!$G$2:$G$99804,輸入!$D$2:$D$99804,報告!$A34,輸入!$B$2:$B$99804,報告!B$3,輸入!$A$2:$A$99804,報告!B$2) -> -257 | C34: =SUMIFS(輸入!$G$2:$G$99804,輸入!$D$2:$D$99804,報告!$A34,輸入!$B$2:$B$99804,報告!C$3,輸入!$A$2:$A$99804,報告!C$2) -> -12 | D34: =SUMIFS(輸入!$G$2:$G$99804,輸入!$D$2:$D$99804,報告!$A34,輸入!$B$2:$B$99804,報告!D$3,輸入!$A$2:$A$99804,報告!D$2) -> 0 | E34: =SUMIFS(輸入!$G$2:$G$99804,輸入!$D$2:$D$99804,報告!$A34,輸入!$B$2:$B$99804,報告!E$3,輸入!$A$2:$A$99804,報告!E$2) -> 0 | F34: =SUMIFS(輸入!$G$2:$G$99804,輸入!$D$2:$D$99804,報告!$A34,輸入!$B$2:$B$99804,報告!F$3,輸入!$A$2:$A$99804,報告!F$2) -> 0 | G34: =SUMIFS(輸入!$G$2:$G$99804,輸入!$D$2:$D$99804,報告!$A34,輸入!$B$2:$B$99804,報告!G$3,輸入!$A$2:$A$99804,報告!G$2) -> 0 | H34: =SUMIFS(輸入!$G$2:$G$99804,輸入!$D$2:$D$99804,報告!$A34,輸入!$B$2:$B$99804,報告!H$3,輸入!$A$2:$A$99804,報告!H$2) -> 0 | I34: =SUMIFS(輸入!$G$2:$G$99804,輸入!$D$2:$D$99804,報告!$A34,輸入!$B$2:$B$99804,報告!I$3,輸入!$A$2:$A$99804,報告!I$2) -> 0 | ... M34: =SUMIFS(輸入!$G$2:$G$99804,輸入!$D$2:$D$99804,報告!$A34,輸入!$B$2:$B$99804,報告!M$3,輸入!$A$2:$A$99804,報告!M$2) -> 0 | N34: =SUM(B34:M34) -> -269
A35: Expense - Telecom | B35: =SUMIFS(輸入!$G$2:$G$99804,輸入!$D$2:$D$99804,報告!$A35,輸入!$B$2:$B$99804,報告!B$3,輸入!$A$2:$A$99804,報告!B$2) -> 0 | C35: =SUMIFS(輸入!$G$2:$G$99804,輸入!$D$2:$D$99804,報告!$A35,輸入!$B$2:$B$99804,報告!C$3,輸入!$A$2:$A$99804,報告!C$2) -> 0 | D35: =SUMIFS(輸入!$G$2:$G$99804,輸入!$D$2:$D$99804,報告!$A35,輸入!$B$2:$B$99804,報告!D$3,輸入!$A$2:$A$99804,報告!D$2) -> 0 | E35: =SUMIFS(輸入!$G$2:$G$99804,輸入!$D$2:$D$99804,報告!$A35,輸入!$B$2:$B$99804,報告!E$3,輸入!$A$2:$A$99804,報告!E$2) -> 0 | F35: =SUMIFS(輸入!$G$2:$G$99804,輸入!$D$2:$D$99804,報告!$A35,輸入!$B$2:$B$99804,報告!F$3,輸入!$A$2:$A$99804,報告!F$2) -> 0 | G35: =SUMIFS(輸入!$G$2:$G$99804,輸入!$D$2:$D$99804,報告!$A35,輸入!$B$2:$B$99804,報告!G$3,輸入!$A$2:$A$99804,報告!G$2) -> 0 | H35: =SUMIFS(輸入!$G$2:$G$99804,輸入!$D$2:$D$99804,報告!$A35,輸入!$B$2:$B$99804,報告!H$3,輸入!$A$2:$A$99804,報告!H$2) -> 0 | I35: =SUMIFS(輸入!$G$2:$G$99804,輸入!$D$2:$D$99804,報告!$A35,輸入!$B$2:$B$99804,報告!I$3,輸入!$A$2:$A$99804,報告!I$2) -> 0 | ... M35: =SUMIFS(輸入!$G$2:$G$99804,輸入!$D$2:$D$99804,報告!$A35,輸入!$B$2:$B$99804,報告!M$3,輸入!$A$2:$A$99804,報告!M$2) -> 0 | N35: =SUM(B35:M35) -> 0
B36: =SUM(B31:B35) -> -26578 | C36: =SUM(C31:C35) -> -12 | D36: =SUM(D31:D35) -> 0 | E36: =SUM(E31:E35) -> 0 | F36: =SUM(F31:F35) -> 0 | G36: =SUM(G31:G35) -> 0 | H36: =SUM(H31:H35) -> 0 | I36: =SUM(I31:I35) -> 0 | ... N36: =SUM(N31:N35) -> -26590
A38: Substain:
A39: Expense - Education | B39: =SUMIFS(輸入!$G$2:$G$99804,輸入!$D$2:$D$99804,報告!$A39,輸入!$B$2:$B$99804,報告!B$3,輸入!$A$2:$A$99804,報告!B$2) -> 0 | C39: =SUMIFS(輸入!$G$2:$G$99804,輸入!$D$2:$D$99804,報告!$A39,輸入!$B$2:$B$99804,報告!C$3,輸入!$A$2:$A$99804,報告!C$2) -> 0 | D39: =SUMIFS(輸入!$G$2:$G$99804,輸入!$D$2:$D$99804,報告!$A39,輸入!$B$2:$B$99804,報告!D$3,輸入!$A$2:$A$99804,報告!D$2) -> 0 | E39: =SUMIFS(輸入!$G$2:$G$99804,輸入!$D$2:$D$99804,報告!$A39,輸入!$B$2:$B$99804,報告!E$3,輸入!$A$2:$A$99804,報告!E$2) -> 0 | F39: =SUMIFS(輸入!$G$2:$G$99804,輸入!$D$2:$D$99804,報告!$A39,輸入!$B$2:$B$99804,報告!F$3,輸入!$A$2:$A$99804,報告!F$2) -> 0 | G39: =SUMIFS(輸入!$G$2:$G$99804,輸入!$D$2:$D$99804,報告!$A39,輸入!$B$2:$B$99804,報告!G$3,輸入!$A$2:$A$99804,報告!G$2) -> 0 | H39: =SUMIFS(輸入!$G$2:$G$99804,輸入!$D$2:$D$99804,報告!$A39,輸入!$B$2:$B$99804,報告!H$3,輸入!$A$2:$A$99804,報告!H$2) -> 0 | I39: =SUMIFS(輸入!$G$2:$G$99804,輸入!$D$2:$D$99804,報告!$A39,輸入!$B$2:$B$99804,報告!I$3,輸入!$A$2:$A$99804,報告!I$2) -> 0 | ... M39: =SUMIFS(輸入!$G$2:$G$99804,輸入!$D$2:$D$99804,報告!$A39,輸入!$B$2:$B$99804,報告!M$3,輸入!$A$2:$A$99804,報告!M$2) -> 0 | N39: =SUM(B39:M39) -> 0
A40: Expense - Entertainment | B40: =SUMIFS(輸入!$G$2:$G$99804,輸入!$D$2:$D$99804,報告!$A40,輸入!$B$2:$B$99804,報告!B$3,輸入!$A$2:$A$99804,報告!B$2) -> -100 | C40: =SUMIFS(輸入!$G$2:$G$99804,輸入!$D$2:$D$99804,報告!$A40,輸入!$B$2:$B$99804,報告!C$3,輸入!$A$2:$A$99804,報告!C$2) -> 0 | D40: =SUMIFS(輸入!$G$2:$G$99804,輸入!$D$2:$D$99804,報告!$A40,輸入!$B$2:$B$99804,報告!D$3,輸入!$A$2:$A$99804,報告!D$2) -> 0 | E40: =SUMIFS(輸入!$G$2:$G$99804,輸入!$D$2:$D$99804,報告!$A40,輸入!$B$2:$B$99804,報告!E$3,輸入!$A$2:$A$99804,報告!E$2) -> 0 | F40: =SUMIFS(輸入!$G$2:$G$99804,輸入!$D$2:$D$99804,報告!$A40,輸入!$B$2:$B$99804,報告!F$3,輸入!$A$2:$A$99804,報告!F$2) -> 0 | G40: =SUMIFS(輸入!$G$2:$G$99804,輸入!$D$2:$D$99804,報告!$A40,輸入!$B$2:$B$99804,報告!G$3,輸入!$A$2:$A$99804,報告!G$2) -> 0 | H40: =SUMIFS(輸入!$G$2:$G$99804,輸入!$D$2:$D$99804,報告!$A40,輸入!$B$2:$B$99804,報告!H$3,輸入!$A$2:$A$99804,報告!H$2) -> 0 | I40: =SUMIFS(輸入!$G$2:$G$99804,輸入!$D$2:$D$99804,報告!$A40,輸入!$B$2:$B$99804,報告!I$3,輸入!$A$2:$A$99804,報告!I$2) -> 0 | ... M40: =SUMIFS(輸入!$G$2:$G$99804,輸入!$D$2:$D$99804,報告!$A40,輸入!$B$2:$B$99804,報告!M$3,輸入!$A$2:$A$99804,報告!M$2) -> 0 | N40: =SUM(B40:M40) -> -100
A41: Expense - Repair & Maintenance | B41: =SUMIFS(輸入!$G$2:$G$99804,輸入!$D$2:$D$99804,報告!$A41,輸入!$B$2:$B$99804,報告!B$3,輸入!$A$2:$A$99804,報告!B$2) -> -5000 | C41: =SUMIFS(輸入!$G$2:$G$99804,輸入!$D$2:$D$99804,報告!$A41,輸入!$B$2:$B$99804,報告!C$3,輸入!$A$2:$A$99804,報告!C$2) -> 0 | D41: =SUMIFS(輸入!$G$2:$G$99804,輸入!$D$2:$D$99804,報告!$A41,輸入!$B$2:$B$99804,報告!D$3,輸入!$A$2:$A$99804,報告!D$2) -> 0 | E41: =SUMIFS(輸入!$G$2:$G$99804,輸入!$D$2:$D$99804,報告!$A41,輸入!$B$2:$B$99804,報告!E$3,輸入!$A$2:$A$99804,報告!E$2) -> 0 | F41: =SUMIFS(輸入!$G$2:$G$99804,輸入!$D$2:$D$99804,報告!$A41,輸入!$B$2:$B$99804,報告!F$3,輸入!$A$2:$A$99804,報告!F$2) -> 0 | G41: =SUMIFS(輸入!$G$2:$G$99804,輸入!$D$2:$D$99804,報告!$A41,輸入!$B$2:$B$99804,報告!G$3,輸入!$A$2:$A$99804,報告!G$2) -> 0 | H41: =SUMIFS(輸入!$G$2:$G$99804,輸入!$D$2:$D$99804,報告!$A41,輸入!$B$2:$B$99804,報告!H$3,輸入!$A$2:$A$99804,報告!H$2) -> 0 | I41: =SUMIFS(輸入!$G$2:$G$99804,輸入!$D$2:$D$99804,報告!$A41,輸入!$B$2:$B$99804,報告!I$3,輸入!$A$2:$A$99804,報告!I$2) -> 0 | ... M41: =SUMIFS(輸入!$G$2:$G$99804,輸入!$D$2:$D$99804,報告!$A41,輸入!$B$2:$B$99804,報告!M$3,輸入!$A$2:$A$99804,報告!M$2) -> 0 | N41: =SUM(B41:M41) -> -5000
A42: Expense - Insurance | B42: =SUMIFS(輸入!$G$2:$G$99804,輸入!$D$2:$D$99804,報告!$A42,輸入!$B$2:$B$99804,報告!B$3,輸入!$A$2:$A$99804,報告!B$2) -> 0 | C42: =SUMIFS(輸入!$G$2:$G$99804,輸入!$D$2:$D$99804,報告!$A42,輸入!$B$2:$B$99804,報告!C$3,輸入!$A$2:$A$99804,報告!C$2) -> 0 | D42: =SUMIFS(輸入!$G$2:$G$99804,輸入!$D$2:$D$99804,報告!$A42,輸入!$B$2:$B$99804,報告!D$3,輸入!$A$2:$A$99804,報告!D$2) -> 0 | E42: =SUMIFS(輸入!$G$2:$G$99804,輸入!$D$2:$D$99804,報告!$A42,輸入!$B$2:$B$99804,報告!E$3,輸入!$A$2:$A$99804,報告!E$2) -> 0 | F42: =SUMIFS(輸入!$G$2:$G$99804,輸入!$D$2:$D$99804,報告!$A42,輸入!$B$2:$B$99804,報告!F$3,輸入!$A$2:$A$99804,報告!F$2) -> 0 | G42: =SUMIFS(輸入!$G$2:$G$99804,輸入!$D$2:$D$99804,報告!$A42,輸入!$B$2:$B$99804,報告!G$3,輸入!$A$2:$A$99804,報告!G$2) -> 0 | H42: =SUMIFS(輸入!$G$2:$G$99804,輸入!$D$2:$D$99804,報告!$A42,輸入!$B$2:$B$99804,報告!H$3,輸入!$A$2:$A$99804,報告!H$2) -> 0 | I42: =SUMIFS(輸入!$G$2:$G$99804,輸入!$D$2:$D$99804,報告!$A42,輸入!$B$2:$B$99804,報告!I$3,輸入!$A$2:$A$99804,報告!I$2) -> 0 | ... M42: =SUMIFS(輸入!$G$2:$G$99804,輸入!$D$2:$D$99804,報告!$A42,輸入!$B$2:$B$99804,報告!M$3,輸入!$A$2:$A$99804,報告!M$2) -> 0 | N42: =SUM(B42:M42) -> 0
A43: Expense - Medical | B43: =SUMIFS(輸入!$G$2:$G$99804,輸入!$D$2:$D$99804,報告!$A43,輸入!$B$2:$B$99804,報告!B$3,輸入!$A$2:$A$99804,報告!B$2) -> 0 | C43: =SUMIFS(輸入!$G$2:$G$99804,輸入!$D$2:$D$99804,報告!$A43,輸入!$B$2:$B$99804,報告!C$3,輸入!$A$2:$A$99804,報告!C$2) -> 0 | D43: =SUMIFS(輸入!$G$2:$G$99804,輸入!$D$2:$D$99804,報告!$A43,輸入!$B$2:$B$99804,報告!D$3,輸入!$A$2:$A$99804,報告!D$2) -> 0 | E43: =SUMIFS(輸入!$G$2:$G$99804,輸入!$D$2:$D$99804,報告!$A43,輸入!$B$2:$B$99804,報告!E$3,輸入!$A$2:$A$99804,報告!E$2) -> 0 | F43: =SUMIFS(輸入!$G$2:$G$99804,輸入!$D$2:$D$99804,報告!$A43,輸入!$B$2:$B$99804,報告!F$3,輸入!$A$2:$A$99804,報告!F$2) -> 0 | G43: =SUMIFS(輸入!$G$2:$G$99804,輸入!$D$2:$D$99804,報告!$A43,輸入!$B$2:$B$99804,報告!G$3,輸入!$A$2:$A$99804,報告!G$2) -> 0 | H43: =SUMIFS(輸入!$G$2:$G$99804,輸入!$D$2:$D$99804,報告!$A43,輸入!$B$2:$B$99804,報告!H$3,輸入!$A$2:$A$99804,報告!H$2) -> 0 | I43: =SUMIFS(輸入!$G$2:$G$99804,輸入!$D$2:$D$99804,報告!$A43,輸入!$B$2:$B$99804,報告!I$3,輸入!$A$2:$A$99804,報告!I$2) -> 0 | ... M43: =SUMIFS(輸入!$G$2:$G$99804,輸入!$D$2:$D$99804,報告!$A43,輸入!$B$2:$B$99804,報告!M$3,輸入!$A$2:$A$99804,報告!M$2) -> 0 | N43: =SUM(B43:M43) -> 0
B44: =SUM(B39:B43) -> -5100 | C44: =SUM(C39:C43) -> 0 | D44: =SUM(D39:D43) -> 0 | E44: =SUM(E39:E43) -> 0 | F44: =SUM(F39:F43) -> 0 | G44: =SUM(G39:G43) -> 0 | H44: =SUM(H39:H43) -> 0 | I44: =SUM(I39:I43) -> 0 | ... N44: =SUM(N39:N43) -> -5100
A46: Luxury:
A47: Expense - Subscription | B47: =SUMIFS(輸入!$G$2:$G$99804,輸入!$D$2:$D$99804,報告!$A47,輸入!$B$2:$B$99804,報告!B$3,輸入!$A$2:$A$99804,報告!B$2) -> 0 | C47: =SUMIFS(輸入!$G$2:$G$99804,輸入!$D$2:$D$99804,報告!$A47,輸入!$B$2:$B$99804,報告!C$3,輸入!$A$2:$A$99804,報告!C$2) -> 0 | D47: =SUMIFS(輸入!$G$2:$G$99804,輸入!$D$2:$D$99804,報告!$A47,輸入!$B$2:$B$99804,報告!D$3,輸入!$A$2:$A$99804,報告!D$2) -> 0 | E47: =SUMIFS(輸入!$G$2:$G$99804,輸入!$D$2:$D$99804,報告!$A47,輸入!$B$2:$B$99804,報告!E$3,輸入!$A$2:$A$99804,報告!E$2) -> 0 | F47: =SUMIFS(輸入!$G$2:$G$99804,輸入!$D$2:$D$99804,報告!$A47,輸入!$B$2:$B$99804,報告!F$3,輸入!$A$2:$A$99804,報告!F$2) -> 0 | G47: =SUMIFS(輸入!$G$2:$G$99804,輸入!$D$2:$D$99804,報告!$A47,輸入!$B$2:$B$99804,報告!G$3,輸入!$A$2:$A$99804,報告!G$2) -> 0 | H47: =SUMIFS(輸入!$G$2:$G$99804,輸入!$D$2:$D$99804,報告!$A47,輸入!$B$2:$B$99804,報告!H$3,輸入!$A$2:$A$99804,報告!H$2) -> 0 | I47: =SUMIFS(輸入!$G$2:$G$99804,輸入!$D$2:$D$99804,報告!$A47,輸入!$B$2:$B$99804,報告!I$3,輸入!$A$2:$A$99804,報告!I$2) -> 0 | ... M47: =SUMIFS(輸入!$G$2:$G$99804,輸入!$D$2:$D$99804,報告!$A47,輸入!$B$2:$B$99804,報告!M$3,輸入!$A$2:$A$99804,報告!M$2) -> 0 | N47: =SUM(B47:M47) -> 0
...

Sheet 輸入
A1: Year | B1: Month | C1: Date | D1: Catagories | E1: Amount LC | F1: FX | G1: Amount | H1: Description
A2: 2024 | B2: January | C2: 1 | D2: Expense - Transportation | G2: -25.7 | H2: KMB 307
A3: 2024 | B3: January | C3: 1 | D3: Expense - Food | G3: -22 | H3: Breakfast - McDonald
A4: 2024 | B4: January | C4: 1 | D4: Expense - Food | G4: -110 | H4: Lunch - Ramen
A5: 2024 | B5: January | C5: 1 | D5: Expense - Food | G5: -60 | H5: Dinner - This This Rice
A6: 2024 | B6: January | C6: 1 | D6: Expense - Transportation | G6: -25.7 | H6: KMB 307
A7: 2024 | B7: January | C7: 1 | D7: Expense - Housing | G7: -24000 | H7: Rental
A8: 2024 | B8: January | C8: 2 | D8: Expense - Transportation | G8: -25.7 | H8: KMB 307
A9: 2024 | B9: January | C9: 2 | D9: Expense - Food | G9: -22 | H9: Breakfast - McDonald
A10: 2024 | B10: January | C10: 2 | D10: Expense - Food | G10: -56 | H10: Lunch - Fast Food
A11: 2024 | B11: January | C11: 2 | D11: Expense - Food | G11: -80 | H11: Dinner - Hot Pot
A12: 2024 | B12: January | C12: 2 | D12: Expense - Transportation | G12: -25.7 | H12: KMB 307
A13: 2024 | B13: January | C13: 3 | D13: Expense - Transportation | G13: -25.7 | H13: KMB 307
... A35: 2024 | B35: February | C35: 2 | D35: Income - Interest Income | G35: 300 | H35: Fixed deposit income

Sheet 分組
C1: January | E1: 1 | G1: Income - Salary
A2: 2024 | C2: February | E2: 2 | G2: Income - Dividend
A3: 2025 | C3: March | E3: 3 | G3: Income - Disposal Gain
A4: 2026 | C4: April | E4: 4 | G4: Income - Interest Income
A5: 2027 | C5: May | E5: 5 | G5: Income - Insurance Claim
A6: 2028 | C6: June | E6: 6 | G6: Income - Government Grant and Subsidy
A7: 2029 | C7: July | E7: 7 | G7: Income - Professional Service
A8: 2030 | C8: August | E8: 8 | G8: Income - Stable Management
A9: 2031 | C9: September | E9: 9 | G9: Expense - Cloth
A10: 2032 | C10: October | E10: 10 | G10: Expense - Food
A11: 2033 | C11: November | E11: 11 | G11: Expense - Housing
A12: 2034 | C12: December | E12: 12 | G12: Expense - Transportation
A13: 2035 | E13: 13 | G13: Expense - Telecom
A14: 2036 | E14: 14 | G14: Expense - Education
A15: 2037 | E15: 15 | G15: Expense - Entertainment
A16: 2038 | E16: 16 | G16: Expense - Repair & Maintenance
A17: 2039 | E17: 17 | G17: Expense - Insurance
A18: 2040 | E18: 18 | G18: Expense - Medical
A19: 2041 | E19: 19 | G19: Expense - Subscription
A20: 2042 | E20: 20 | G20: Expense - Luxury
E21: 21 | G21: Expense - Beauty
E22: 22 | G22: Expense - Travel
E23: 23 | G23: Expense - Maids
E24: 24 | G24: Expense - Children Expense
E25: 25 | G25: Expense - Giving to Family
E26: 26 | G26: Expense - Giving to Children
E27: 27 | G27: Expense - Giving to Charity
E28: 28 | G28: Expense - Interest Expense
E29: 29 | G29: Expense - Taxation
E30: 30 | G30: CAPEX - Property
E31: 31 | G31: CAPEX - Motor Vehicle
G32: CAPEX - Equipment
G33: CAPEX - Furniture
G34: CAPEX - Leasehold Improvement
